BEGIN:VCALENDAR
VERSION:2.0
PRODID:-//Willkommen im Inselkiez! - ECPv6.15.20//NONSGML v1.0//EN
CALSCALE:GREGORIAN
METHOD:PUBLISH
X-WR-CALNAME:Willkommen im Inselkiez!
X-ORIGINAL-URL:https://inselkiez.de
X-WR-CALDESC:Veranstaltungen für Willkommen im Inselkiez!
REFRESH-INTERVAL;VALUE=DURATION:PT1H
X-Robots-Tag:noindex
X-PUBLISHED-TTL:PT1H
BEGIN:VTIMEZONE
TZID:Europe/Berlin
BEGIN:DAYLIGHT
TZOFFSETFROM:+0100
TZOFFSETTO:+0200
TZNAME:CEST
DTSTART:20250330T010000
END:DAYLIGHT
BEGIN:STANDARD
TZOFFSETFROM:+0200
TZOFFSETTO:+0100
TZNAME:CET
DTSTART:20251026T010000
END:STANDARD
BEGIN:DAYLIGHT
TZOFFSETFROM:+0100
TZOFFSETTO:+0200
TZNAME:CEST
DTSTART:20260329T010000
END:DAYLIGHT
BEGIN:STANDARD
TZOFFSETFROM:+0200
TZOFFSETTO:+0100
TZNAME:CET
DTSTART:20261025T010000
END:STANDARD
BEGIN:DAYLIGHT
TZOFFSETFROM:+0100
TZOFFSETTO:+0200
TZNAME:CEST
DTSTART:20270328T010000
END:DAYLIGHT
BEGIN:STANDARD
TZOFFSETFROM:+0200
TZOFFSETTO:+0100
TZNAME:CET
DTSTART:20271031T010000
END:STANDARD
END:VTIMEZONE
BEGIN:VEVENT
DTSTART;TZID=Europe/Berlin:20260510T150000
DTEND;TZID=Europe/Berlin:20260510T180000
DTSTAMP:20260420T103929
CREATED:20260223T161905Z
LAST-MODIFIED:20260417T083411Z
UID:2799-1778425200-1778436000@inselkiez.de
SUMMARY:Inselkiez Kennenlern-Treffen am 10. Mai 2026
DESCRIPTION:Liebe Inselkiez-Freunde\, \n\n\n\nihr wollt wissen \n\n\n\n– wer wir sind\,– was wir planen und– wie wir uns eine Baugemeinschaft vorstellen? \n\n\n\nDann lernt uns bei einer Tasse Kaffee oder Tee kennen\, teilt eure Vorstellungen und kommt mit uns ins Gespräch. Dazu ist das Inselkiez Kennenlern-Treffen der perfekte Ort! Inselkiez Kennenlern-Treffenam Sonntag\, den 10. Mai 2026ab 15:00 UhrAuf dem Spielplatz Bullerberge\, Planten un BlomenHaltet vor Ort Ausschau nach dem Inselkiez-Logo\, den genauen Standort teilen wir dann auch in unserer WhatsApp-Community!Wir freuen uns auf euch! \n\n\n\nZu besseren Organisation bitten wir um Anmeldung:
URL:https://inselkiez.de/event/inselkiez-kennenlern-treffen-am-10-mai-2026/
CATEGORIES:Inselkiez Kennenlern-Treffen
ATTACH;FMTTYPE=image/jpeg:https://inselkiez.de/wp-content/uploads/2025/05/IMG_7851-scaled.jpg
END:VEVENT
BEGIN:VEVENT
DTSTART;TZID=Europe/Berlin:20260614T150000
DTEND;TZID=Europe/Berlin:20260614T180000
DTSTAMP:20260420T103929
CREATED:20260223T162337Z
LAST-MODIFIED:20260223T162339Z
UID:2802-1781449200-1781460000@inselkiez.de
SUMMARY:Inselkiez Kennenlern-Treffen am 14. Juni 2026
DESCRIPTION:Liebe Inselkiez-Freunde\, \n\n\n\nihr wollt wissen \n\n\n\n– wer wir sind\,– was wir planen und– wie wir uns eine Baugemeinschaft vorstellen? \n\n\n\nDann lernt uns bei einer Tasse Kaffee oder Tee kennen\, teilt eure Vorstellungen und kommt mit uns ins Gespräch. Dazu ist das Inselkiez Kennenlern-Treffen der perfekte Ort!Inselkiez Kennenlern-Treffenam Sonntag\, den 14. Juni 2026ab 15:00 UhrÜber den Ort informieren wir rechtzeitig hier und in unserer WhatsApp-Community!Wir freuen uns auf euch! \n\n\n\nZu besseren Organisation bitten wir um Anmeldung:
URL:https://inselkiez.de/event/inselkiez-kennenlern-treffen-am-14-juni-2026/
CATEGORIES:Inselkiez Kennenlern-Treffen
ATTACH;FMTTYPE=image/jpeg:https://inselkiez.de/wp-content/uploads/2025/09/WhatsApp-Image-2025-09-23-at-13.29.55-3.jpeg
END:VEVENT
END:VCALENDAR